Workbook

Sheet Curriculum Builder
B2: Post-16 Programme Builder for first teach 2027 | K2: Main Display | L2: Main Subject | M2: Main GLH | N2: Main Role | O2: Main Status | P2: Main Replacement | Q2: Main Family | R2: Enrichment Display | S2: Enrichment Subject | T2: Enrichment GLH | U2: Enrichment Status | V2: Enrichment Family | W2: Helper | X2: Value | Y2: Main Discount Family | Z2: Main Discount Code | AB2: Main List 1 | AC2: Main List 2 | AD2: Main List 3 | AE2: Main List 4 | AG2: Enrichment List 1 | AH2: Enrichment List 2 | AI2: Enrichment List 3 | AJ2: Selected Subject (hidden) | AK2: Selected GLH (hidden)
K5: {=_xlfn._xlws.FILTER(CHOOSE({1,2,3,4,5,6,7},TRIM('Qualification Library'!A2:A100)&" | "&TRIM('Qualification Library'!B2:B100)&" | "&'Qualification Library'!C2:C100&" GLH",TRIM('Qualification Library'!B2:B100),'Qualification Library'!C2:C100,TRIM('Qualification Library'!D2:D100),TRIM('Qualification Library'!F2:F100),TRIM('Qualification Library'!H2:H100),TRIM('Qualification Library'!A2:A100)),(TRIM('Qualification Library'!G2:G100)="Yes")*(TRIM('Qualification Library'!D2:D100)<>"Can be added to programme"),"")} -> V Level | Digital systems and data | 360 GLH | L5: Digital systems and data | M5: 360 | N5: Can be used in a mixed programme of study | O5: New from 2027 | P5: NA | Q5: V Level | R5: {=_xlfn._xlws.FILTER(CHOOSE({1,2,3,4,5},TRIM('Qualification Library'!A2:A100)&" | "&TRIM('Qualification Library'!B2:B100)&" | "&'Qualification Library'!C2:C100&" GLH",TRIM('Qualification Library'!B2:B100),'Qualification Library'!C2:C100,TRIM('Qualification Library'!F2:F100),TRIM('Qualification Library'!A2:A100)),(TRIM('Qualification Library'!G2:G100)="Yes")*(TRIM('Qualification Library'!D2:D100)="Can be added to programme"),"")} -> Level 3 Enrichment Certificate | Sustainability | 150 GLH | S5: Sustainability | T5: 150 | U5: Continuing | V5: Level 3 Enrichment Certificate | AB5: {=_xlfn.VSTACK("",_xlfn._xlws.FILTER($K$5:$K$201,$K$5:$K$201<>"",""))} | AC5: {=_xlfn.LET(_xlpm.p,"click to select from the drop down box",_xlpm.r,"Reset choices",_xlpm.prev,_xlfn._xlws.FILTER($C$12:$C$12,($C$12:$C$12<>"")*($C$12:$C$12<>_xlpm.p)*($C$12:$C$12<>_xlpm.r),""),_xlpm.prevCount,SUM(--(_xlpm.prev<>"")),_xlpm.prevPairs,_xlfn._xlws.FILTER($AJ$12:$AJ$12&"|"&_xlfn.XLOOKUP($C$12:$C$12,$K:$K,$Q:$Q,""),($C$12:$C$12<>"")*($C$12:$C$12<>_xlpm.p)*($C$12:$C$12<>_xlpm.r),""),IF(_xlpm.prevCount=0,"",_xlfn.VSTACK("",_xlfn._xlws.FILTER($K$5:$K$201,($K$5:$K$201<>"")*($N$5:$N$201<>"Forms a full programme")*ISNA(_xlfn.XMATCH($L$5:$L$201&"|"&$Q$5:$Q$201,_xlpm.prevPairs)),""))))} | AD5: {=_xlfn.LET(_xlpm.p,"click to select from the drop down box",_xlpm.r,"Reset choices",_xlpm.prev,_xlfn._xlws.FILTER($C$12:$C$13,($C$12:$C$13<>"")*($C$12:$C$13<>_xlpm.p)*($C$12:$C$13<>_xlpm.r),""),_xlpm.prevCount,SUM(--(_xlpm.prev<>"")),_xlpm.prevPairs,_xlfn._xlws.FILTER($AJ$12:$AJ$13&"|"&_xlfn.XLOOKUP($C$12:$C$13,$K:$K,$Q:$Q,""),($C$12:$C$13<>"")*($C$12:$C$13<>_xlpm.p)*($C$12:$C$13<>_xlpm.r),""),IF(_xlpm.prevCount<2,"",_xlfn.VSTACK("",_xlfn._xlws.FILTER($K$5:$K$201,($K$5:$K$201<>"")*($N$5:$N$201<>"Forms a full programme")*ISNA(_xlfn.XMATCH($L$5:$L$201&"|"&$Q$5:$Q$201,_xlpm.prevPairs)),""))))} | AE5: {=_xlfn.LET(_xlpm.p,"click to select from the drop down box",_xlpm.r,"Reset choices",_xlpm.prev,_xlfn._xlws.FILTER($C$12:$C$14,($C$12:$C$14<>"")*($C$12:$C$14<>_xlpm.p)*($C$12:$C$14<>_xlpm.r),""),_xlpm.prevCount,SUM(--(_xlpm.prev<>"")),_xlpm.prevPairs,_xlfn._xlws.FILTER($AJ$12:$AJ$14&"|"&_xlfn.XLOOKUP($C$12:$C$14,$K:$K,$Q:$Q,""),($C$12:$C$14<>"")*($C$12:$C$14<>_xlpm.p)*($C$12:$C$14<>_xlpm.r),""),IF(_xlpm.prevCount<3,"",_xlfn.VSTACK("",_xlfn._xlws.FILTER($K$5:$K$201,($K$5:$K$201<>"")*($N$5:$N$201<>"Forms a full programme")*ISNA(_xlfn.XMATCH($L$5:$L$201&"|"&$Q$5:$Q$201,_xlpm.prevPairs)),""))))} | AG5: {=_xlfn.VSTACK("",_xlfn._xlws.FILTER($R$5:$R$51,$R$5:$R$51<>""))} | AH5: {=_xlfn.VSTACK("",_xlfn._xlws.FILTER($R$5:$R$51,($R$5:$R$51<>"")*ISNA(_xlfn.XMATCH($R$5:$R$51,$C$20:$C$20)),""))} | AI5: {=_xlfn.VSTACK("",_xlfn._xlws.FILTER($R$5:$R$51,($R$5:$R$51<>"")*ISNA(_xlfn.XMATCH($R$5:$R$51,$C$20:$C$21)),""))}
K6: V Level | Education | 360 GLH | L6: Education | M6: 360 | N6: Can be used in a mixed programme of study | O6: New from 2027 | P6: NA | Q6: V Level | R6: Level 3 Enrichment Award | Oracy | 30 GLH | S6: Oracy | T6: 30 | U6: Continuing | V6: Level 3 Enrichment Award | AB6: V Level | Digital systems and data | 360 GLH | AG6: Level 3 Enrichment Certificate | Sustainability | 150 GLH | AH6: Level 3 Enrichment Certificate | Sustainability | 150 GLH | AI6: Level 3 Enrichment Certificate | Sustainability | 150 GLH
B7: Click in the 'Main qualification' box | K7: V Level | Accounting and Finance | 360 GLH | L7: Accounting and Finance | M7: 360 | N7: Can be used in a mixed programme of study | O7: New from 2027 | P7: NA | Q7: V Level | R7: Level 3 Enrichment Award | Personal Finance | 30 GLH | S7: Personal Finance | T7: 30 | U7: Continuing | V7: Level 3 Enrichment Award | AB7: V Level | Education | 360 GLH | AG7: Level 3 Enrichment Award | Oracy | 30 GLH | AH7: Level 3 Enrichment Award | Oracy | 30 GLH | AI7: Level 3 Enrichment Award | Oracy | 30 GLH
B8: Select your Cambridge OCR qualifications from the drop down menu | K8: A Level | Ancient History | 360 GLH | L8: Ancient History | M8: 360 | N8: Can be used in a mixed programme of study | O8: Continuing | P8: NA | Q8: A Level | AB8: V Level | Accounting and Finance | 360 GLH | AG8: Level 3 Enrichment Award | Personal Finance | 30 GLH | AH8: Level 3 Enrichment Award | Personal Finance | 30 GLH | AI8: Level 3 Enrichment Award | Personal Finance | 30 GLH
B9: Check the message in the outcome box | K9: A Level | Art, Craft and Design | 360 GLH | L9: Art, Craft and Design | M9: 360 | N9: Can be used in a mixed programme of study | O9: Continuing | P9: NA | Q9: A Level | AB9: A Level | Ancient History | 360 GLH
K10: A Level | Art and Design: Fine Art | 360 GLH | L10: Art and Design: Fine Art | M10: 360 | N10: Can be used in a mixed programme of study | O10: Continuing | P10: NA | Q10: A Level | W10: Main GLH | X10: =SUM(AK12:AK15) -> 0 | AB10: A Level | Art, Craft and Design | 360 GLH
B11: Slot | C11: Main qualification | F11: Programme role | G11: First teach 2027 status | H11: Replacement note | K11: A Level | Art and Design: Graphic Communication | 360 GLH | L11: Art and Design: Graphic Communication | M11: 360 | N11: Can be used in a mixed programme of study | O11: Continuing | P11: NA | Q11: A Level | W11: Has Full Programme | X11: =COUNTIF(F12:F15,"Forms a full programme")>0 -> FALSE | AB11: A Level | Art and Design: Fine Art | 360 GLH
B12: 1 | F12: =_xlfn.LET(_xlpm.p,"click to select from the drop down box",_xlpm.s,C12,IF(OR(_xlpm.s="",_xlpm.s=_xlpm.p),"",_xlfn.XLOOKUP(_xlpm.s,$K:$K,$N:$N,""))) | G12: =_xlfn.LET(_xlpm.p,"click to select from the drop down box",_xlpm.s,C12,IF(OR(_xlpm.s="",_xlpm.s=_xlpm.p),"",_xlfn.XLOOKUP(_xlpm.s,$K:$K,$O:$O,""))) | H12: =_xlfn.LET(_xlpm.p,"click to select from the drop down box",_xlpm.s,C12,IF(OR(_xlpm.s="",_xlpm.s=_xlpm.p),"",_xlfn.XLOOKUP(_xlpm.s,$K:$K,$P:$P,""))) | K12: A Level | Art and Design: Photography | 360 GLH | L12: Art and Design: Photography | M12: 360 | N12: Can be used in a mixed programme of study | O12: Continuing | P12: NA | Q12: A Level | W12: Duplicate Subject | X12: {=_xlfn.LET(_xlpm.p,"click to select from the drop down box",_xlpm.r,"Reset choices",_xlpm.sel,C12:C15,_xlpm.mask,(_xlpm.sel<>"")*(_xlpm.sel<>_xlpm.p)*(_xlpm.sel<>_xlpm.r),IFERROR(_xlfn.LET(_xlpm.valid,_xlfn._xlws.FILTER(_xlpm.sel,_xlpm.mask),_xlpm.subjects,_xlfn._xlws.FILTER(AJ12:AJ15,_xlpm.mask),_xlpm.families,_xlfn.XLOOKUP(_xlpm.valid,$K:$K,$Q:$Q,""),_xlpm.pairs,_xlpm.subjects&"|"&_xlpm.families,IF(ROWS(_xlpm.pairs)<=1,FALSE,COUNTA(_xlfn.UNIQUE(_xlpm.pairs))<ROWS(_xlpm.pairs))),FALSE))} -> FALSE | Y12: {=_xlfn.LET(_xlpm.p,"click to select from the drop down box",_xlpm.s,C12,_xlpm.key,'Qualification Library'!$A$2:$A$203&" | "&'Qualification Library'!$B$2:$B$203&" | "&'Qualification Library'!$C$2:$C$203&" GLH",IF(OR(_xlpm.s="",_xlpm.s=_xlpm.p),"",_xlfn.XLOOKUP(_xlpm.s,_xlpm.key,'Qualification Library'!$I$2:$I$203,"")))} | Z12: {=_xlfn.LET(_xlpm.p,"click to select from the drop down box",_xlpm.s,C12,_xlpm.key,'Qualification Library'!$A$2:$A$203&" | "&'Qualification Library'!$B$2:$B$203&" | "&'Qualification Library'!$C$2:$C$203&" GLH",IF(OR(_xlpm.s="",_xlpm.s=_xlpm.p),"",_xlfn.XLOOKUP(_xlpm.s,_xlpm.key,'Qualification Library'!$K$2:$K$203,"")))} | AB12: A Level | Art and Design: Graphic Communication | 360 GLH | AJ12: =_xlfn.LET(_xlpm.p,"click to select from the drop down box",_xlpm.s,C12,IF(OR(_xlpm.s="",_xlpm.s=_xlpm.p),"",_xlfn.XLOOKUP(_xlpm.s,$K:$K,$L:$L,""))) | AK12: =_xlfn.LET(_xlpm.p,"click to select from the drop down box",_xlpm.s,C12,IF(OR(_xlpm.s="",_xlpm.s=_xlpm.p),"",_xlfn.XLOOKUP(_xlpm.s,$K:$K,$M:$M,"")))
B13: 2 | F13: =_xlfn.LET(_xlpm.p,"click to select from the drop down box",_xlpm.s,C13,IF(OR(_xlpm.s="",_xlpm.s=_xlpm.p),"",_xlfn.XLOOKUP(_xlpm.s,$K:$K,$N:$N,""))) | G13: =_xlfn.LET(_xlpm.p,"click to select from the drop down box",_xlpm.s,C13,IF(OR(_xlpm.s="",_xlpm.s=_xlpm.p),"",_xlfn.XLOOKUP(_xlpm.s,$K:$K,$O:$O,""))) | H13: =_xlfn.LET(_xlpm.p,"click to select from the drop down box",_xlpm.s,C13,IF(OR(_xlpm.s="",_xlpm.s=_xlpm.p),"",_xlfn.XLOOKUP(_xlpm.s,$K:$K,$P:$P,""))) | K13: A Level | Art and Design: Textiles Design | 360 GLH | L13: Art and Design: Textiles Design | M13: 360 | N13: Can be used in a mixed programme of study | O13: Continuing | P13: NA | Q13: A Level | W13: Transition Message | X13: {=_xlfn.LET(_xlpm.p,"click to select from the drop down box",_xlpm.r,"Reset choices",_xlpm.sel,C12:C15,_xlpm.mask,(_xlpm.sel<>"")*(_xlpm.sel<>_xlpm.p)*(_xlpm.sel<>_xlpm.r),IFERROR(_xlfn.LET(_xlpm.selected,_xlfn._xlws.FILTER(_xlpm.sel,_xlpm.mask),_xlpm.subjects,_xlfn._xlws.FILTER(AJ12:AJ15,_xlpm.mask),_xlpm.sizes,_xlfn._xlws.FILTER(AK12:AK15,_xlpm.mask),_xlpm.statuses,_xlfn._xlws.FILTER(G12:G15,_xlpm.mask),_xlpm.replacements,_xlfn._xlws.FILTER(H12:H15,_xlpm.mask),_xlpm.families,_xlfn.XLOOKUP(_xlpm.selected,$K:$K,$Q:$Q,""),_xlpm.transitionDetails,IF((_xlpm.subjects<>"")*(_xlpm.statuses="Transitioning"),IF((_xlpm.subjects="Information Technology")*(_xlpm.sizes=720),"Information Technology 720GLH is funded for first teach 2027 but is expected to be defunded for first teach 2028.",_xlpm.subjects&" is funded for first teach 2027 but is expected to be replaced in "&SUBSTITUTE(_xlpm.replacements,"FT","first teach")&"."),""),_xlpm.transitionText,IFERROR(_xlfn.TEXTJOIN(" ",TRUE,_xlfn.UNIQUE(_xlfn._xlws.FILTER(_xlpm.transitionDetails,_xlpm.transitionDetails<>""))),""),_xlpm.artTechWarnings,IF((_xlpm.selected<>"")*(_xlpm.families="Level 3 Cambridge Technical")*(_xlpm.subjects="Art and Design"),_xlpm.families&" "&_xlpm.subjects&" attracts funding for both 16-19 and post‑19 learners but is not counted in 16-18 performance tables.",""),_xlfn.TEXTJOIN(" ",TRUE,_xlpm.transitionText,_xlfn.UNIQUE(_xlfn._xlws.FILTER(_xlpm.artTechWarnings,_xlpm.artTechWarnings<>"","")))),""))} | Y13: {=_xlfn.LET(_xlpm.p,"click to select from the drop down box",_xlpm.s,C13,_xlpm.key,'Qualification Library'!$A$2:$A$203&" | "&'Qualification Library'!$B$2:$B$203&" | "&'Qualification Library'!$C$2:$C$203&" GLH",IF(OR(_xlpm.s="",_xlpm.s=_xlpm.p),"",_xlfn.XLOOKUP(_xlpm.s,_xlpm.key,'Qualification Library'!$I$2:$I$203,"")))} | Z13: {=_xlfn.LET(_xlpm.p,"click to select from the drop down box",_xlpm.s,C13,_xlpm.key,'Qualification Library'!$A$2:$A$203&" | "&'Qualification Library'!$B$2:$B$203&" | "&'Qualification Library'!$C$2:$C$203&" GLH",IF(OR(_xlpm.s="",_xlpm.s=_xlpm.p),"",_xlfn.XLOOKUP(_xlpm.s,_xlpm.key,'Qualification Library'!$K$2:$K$203,"")))} | AB13: A Level | Art and Design: Photography | 360 GLH | AJ13: =_xlfn.LET(_xlpm.p,"click to select from the drop down box",_xlpm.s,C13,IF(OR(_xlpm.s="",_xlpm.s=_xlpm.p),"",_xlfn.XLOOKUP(_xlpm.s,$K:$K,$L:$L,""))) | AK13: =_xlfn.LET(_xlpm.p,"click to select from the drop down box",_xlpm.s,C13,IF(OR(_xlpm.s="",_xlpm.s=_xlpm.p),"",_xlfn.XLOOKUP(_xlpm.s,$K:$K,$M:$M,"")))
B14: 3 | F14: =_xlfn.LET(_xlpm.p,"click to select from the drop down box",_xlpm.s,C14,IF(OR(_xlpm.s="",_xlpm.s=_xlpm.p),"",_xlfn.XLOOKUP(_xlpm.s,$K:$K,$N:$N,""))) | G14: =_xlfn.LET(_xlpm.p,"click to select from the drop down box",_xlpm.s,C14,IF(OR(_xlpm.s="",_xlpm.s=_xlpm.p),"",_xlfn.XLOOKUP(_xlpm.s,$K:$K,$O:$O,""))) | H14: =_xlfn.LET(_xlpm.p,"click to select from the drop down box",_xlpm.s,C14,IF(OR(_xlpm.s="",_xlpm.s=_xlpm.p),"",_xlfn.XLOOKUP(_xlpm.s,$K:$K,$P:$P,""))) | K14: A Level | Art and Design: Three Dimensional Design | 360 GLH | L14: Art and Design: Three Dimensional Design | M14: 360 | N14: Can be used in a mixed programme of study | O14: Continuing | P14: NA | Q14: A Level | Y14: {=_xlfn.LET(_xlpm.p,"click to select from the drop down box",_xlpm.s,C14,_xlpm.key,'Qualification Library'!$A$2:$A$203&" | "&'Qualification Library'!$B$2:$B$203&" | "&'Qualification Library'!$C$2:$C$203&" GLH",IF(OR(_xlpm.s="",_xlpm.s=_xlpm.p),"",_xlfn.XLOOKUP(_xlpm.s,_xlpm.key,'Qualification Library'!$I$2:$I$203,"")))} | Z14: {=_xlfn.LET(_xlpm.p,"click to select from the drop down box",_xlpm.s,C14,_xlpm.key,'Qualification Library'!$A$2:$A$203&" | "&'Qualification Library'!$B$2:$B$203&" | "&'Qualification Library'!$C$2:$C$203&" GLH",IF(OR(_xlpm.s="",_xlpm.s=_xlpm.p),"",_xlfn.XLOOKUP(_xlpm.s,_xlpm.key,'Qualification Library'!$K$2:$K$203,"")))} | AB14: A Level | Art and Design: Textiles Design | 360 GLH | AJ14: =_xlfn.LET(_xlpm.p,"click to select from the drop down box",_xlpm.s,C14,IF(OR(_xlpm.s="",_xlpm.s=_xlpm.p),"",_xlfn.XLOOKUP(_xlpm.s,$K:$K,$L:$L,""))) | AK14: =_xlfn.LET(_xlpm.p,"click to select from the drop down box",_xlpm.s,C14,IF(OR(_xlpm.s="",_xlpm.s=_xlpm.p),"",_xlfn.XLOOKUP(_xlpm.s,$K:$K,$M:$M,"")))
B15: 4 | F15: =_xlfn.LET(_xlpm.p,"click to select from the drop down box",_xlpm.s,C15,IF(OR(_xlpm.s="",_xlpm.s=_xlpm.p),"",_xlfn.XLOOKUP(_xlpm.s,$K:$K,$N:$N,""))) | G15: =_xlfn.LET(_xlpm.p,"click to select from the drop down box",_xlpm.s,C15,IF(OR(_xlpm.s="",_xlpm.s=_xlpm.p),"",_xlfn.XLOOKUP(_xlpm.s,$K:$K,$O:$O,""))) | H15: =_xlfn.LET(_xlpm.p,"click to select from the drop down box",_xlpm.s,C15,IF(OR(_xlpm.s="",_xlpm.s=_xlpm.p),"",_xlfn.XLOOKUP(_xlpm.s,$K:$K,$P:$P,""))) | K15: A Level | Biology A | 360 GLH | L15: Biology A | M15: 360 | N15: Can be used in a mixed programme of study | O15: Continuing | P15: NA | Q15: A Level | W15: Duplicate Message | X15: ="This combination is not allowed because the same subject has been selected in more than one size. Please revise your choices." -> This combination is not allowed because the same subject has been selected in more than one size. Please revise your choices. | Y15: {=_xlfn.LET(_xlpm.p,"click to select from the drop down box",_xlpm.s,C15,_xlpm.key,'Qualification Library'!$A$2:$A$203&" | "&'Qualification Library'!$B$2:$B$203&" | "&'Qualification Library'!$C$2:$C$203&" GLH",IF(OR(_xlpm.s="",_xlpm.s=_xlpm.p),"",_xlfn.XLOOKUP(_xlpm.s,_xlpm.key,'Qualification Library'!$I$2:$I$203,"")))} | Z15: {=_xlfn.LET(_xlpm.p,"click to select from the drop down box",_xlpm.s,C15,_xlpm.key,'Qualification Library'!$A$2:$A$203&" | "&'Qualification Library'!$B$2:$B$203&" | "&'Qualification Library'!$C$2:$C$203&" GLH",IF(OR(_xlpm.s="",_xlpm.s=_xlpm.p),"",_xlfn.XLOOKUP(_xlpm.s,_xlpm.key,'Qualification Library'!$K$2:$K$203,"")))} | AB15: A Level | Art and Design: Three Dimensional Design | 360 GLH | AJ15: =_xlfn.LET(_xlpm.p,"click to select from the drop down box",_xlpm.s,C15,IF(OR(_xlpm.s="",_xlpm.s=_xlpm.p),"",_xlfn.XLOOKUP(_xlpm.s,$K:$K,$L:$L,""))) | AK15: =_xlfn.LET(_xlpm.p,"click to select from the drop down box",_xlpm.s,C15,IF(OR(_xlpm.s="",_xlpm.s=_xlpm.p),"",_xlfn.XLOOKUP(_xlpm.s,$K:$K,$M:$M,"")))
K16: A Level | Business | 360 GLH | L16: Business | M16: 360 | N16: Can be used in a mixed programme of study | O16: Continuing | P16: NA | Q16: A Level | W16: Full Programme Message | X16: ="This combination is not allowed because a qualification that forms a full programme cannot be combined with other main qualifications. Keep the full programme qualification and enrichment only, or revise your choices." -> This combination is not allowed because a qualification that forms a full programme cannot be combined with other main qualifications. Keep the full programme qualification and enrichment only, or revise your choices. | AB16: A Level | Biology A | 360 GLH
B17: Add optional Level 3 enrichment qualifications | K17: A Level | Chemistry A | 360 GLH | L17: Chemistry A | M17: 360 | N17: Can be used in a mixed programme of study | O17: Continuing | P17: NA | Q17: A Level | AB17: A Level | Business | 360 GLH
K18: A Level | Chemistry B | 360 GLH | L18: Chemistry B | M18: 360 | N18: Can be used in a mixed programme of study | O18: Continuing | P18: NA | Q18: A Level | W18: Large Message | X18: Maximum GLH cap removed: users can select up to 4 main qualifications, subject to duplicate and full-programme rules. | AB18: A Level | Chemistry A | 360 GLH
B19: Enrichment | C19: Enrichment qualification | F19: First teach 2027 status | K19: A Level | Classical Civilisation | 360 GLH | L19: Classical Civilisation | M19: 360 | N19: Can be used in a mixed programme of study | O19: Continuing | P19: NA | Q19: A Level | W19: Small Message | X19: The selected main qualifications do not yet make a full programme of study. Please select another qualification. | AB19: A Level | Chemistry B | 360 GLH
B20: 1 | F20: =_xlfn.LET(_xlpm.s,C20,IF(OR(_xlpm.s="",_xlpm.s="click to select from the drop down box",_xlpm.s="Clear selection"),"",_xlfn.XLOOKUP(_xlpm.s,$R:$R,$U:$U,""))) | K20: A Level | Classical Greek | 360 GLH | L20: Classical Greek | M20: 360 | N20: Can be used in a mixed programme of study | O20: Continuing | P20: NA | Q20: A Level | W20: Valid Warning Message | X20: {=_xlfn.LET(_xlpm.mainCount,SUMPRODUCT(--($C$12:$C$15<>""),--($C$12:$C$15<>"click to select from the drop down box"),--($C$12:$C$15<>"Reset choices"),--($C$12:$C$15<>"Clear selection")),_xlpm.base,IF(_xlpm.mainCount=1,"","The combination you have selected is funded for 2027."),_xlpm.w,$X$13,IF(_xlpm.w<>"",IF(_xlpm.base<>"",_xlpm.base&" ","")&"Gentle warning: "&_xlpm.w,""))} | AB20: A Level | Classical Civilisation | 360 GLH | AJ20: =_xlfn.LET(_xlpm.s,C20,IF(OR(_xlpm.s="",_xlpm.s="click to select from the drop down box",_xlpm.s="Clear selection"),"",_xlfn.XLOOKUP(_xlpm.s,$R:$R,$S:$S,""))) | AK20: =_xlfn.LET(_xlpm.s,C20,IF(OR(_xlpm.s="",_xlpm.s="click to select from the drop down box",_xlpm.s="Clear selection"),"",_xlfn.XLOOKUP(_xlpm.s,$R:$R,$T:$T,"")))
B21: 2 | F21: =_xlfn.LET(_xlpm.s,C21,IF(OR(_xlpm.s="",_xlpm.s="click to select from the drop down box",_xlpm.s="Clear selection"),"",_xlfn.XLOOKUP(_xlpm.s,$R:$R,$U:$U,""))) | K21: A Level | Computer Science | 360 GLH | L21: Computer Science | M21: 360 | N21: Can be used in a mixed programme of study | O21: Continuing | P21: NA | Q21: A Level | W21: Valid Message | X21: ="The combination you have selected is funded for 2027." -> The combination you have selected is funded for 2027. | AB21: A Level | Classical Greek | 360 GLH | AJ21: =_xlfn.LET(_xlpm.s,C21,IF(OR(_xlpm.s="",_xlpm.s="click to select from the drop down box",_xlpm.s="Clear selection"),"",_xlfn.XLOOKUP(_xlpm.s,$R:$R,$S:$S,""))) | AK21: =_xlfn.LET(_xlpm.s,C21,IF(OR(_xlpm.s="",_xlpm.s="click to select from the drop down box",_xlpm.s="Clear selection"),"",_xlfn.XLOOKUP(_xlpm.s,$R:$R,$T:$T,"")))
B22: 3 | F22: =_xlfn.LET(_xlpm.s,C22,IF(OR(_xlpm.s="",_xlpm.s="click to select from the drop down box",_xlpm.s="Clear selection"),"",_xlfn.XLOOKUP(_xlpm.s,$R:$R,$U:$U,""))) | K22: A Level | Design and Technology: Design Engineering | 360 GLH | L22: Design and Technology: Design Engineering | M22: 360 | N22: Can be used in a mixed programme of study | O22: Continuing | P22: NA | Q22: A Level | W22: Duplicate Discount Pair | X22: =OR(AND(Y12<>"",Z12<>"",Y12=Y13,Z12=Z13),AND(Y12<>"",Z12<>"",Y12=Y14,Z12=Z14),AND(Y12<>"",Z12<>"",Y12=Y15,Z12=Z15),AND(Y13<>"",Z13<>"",Y13=Y14,Z13=Z14),AND(Y13<>"",Z13<>"",Y13=Y15,Z13=Z15),AND(Y14<>"",Z14<>"",Y14=Y15,Z14=Z15)) -> FALSE | AB22: A Level | Computer Science | 360 GLH | AJ22: =_xlfn.LET(_xlpm.s,C22,IF(OR(_xlpm.s="",_xlpm.s="click to select from the drop down box",_xlpm.s="Clear selection"),"",_xlfn.XLOOKUP(_xlpm.s,$R:$R,$S:$S,""))) | AK22: =_xlfn.LET(_xlpm.s,C22,IF(OR(_xlpm.s="",_xlpm.s="click to select from the drop down box",_xlpm.s="Clear selection"),"",_xlfn.XLOOKUP(_xlpm.s,$R:$R,$T:$T,"")))
K23: A Level | Design and Technology: Product Design | 360 GLH | L23: Design and Technology: Product Design | M23: 360 | N23: Can be used in a mixed programme of study | O23: Continuing | P23: NA | Q23: A Level | W23: Duplicate Discount Message | X23: {=_xlfn.LET(_xlpm.k,IF(AND(Y12<>"",Z12<>"",Y12=Y13,Z12=Z13),Y12&"|"&Z12,IF(AND(Y12<>"",Z12<>"",Y12=Y14,Z12=Z14),Y12&"|"&Z12,IF(AND(Y12<>"",Z12<>"",Y12=Y15,Z12=Z15),Y12&"|"&Z12,IF(AND(Y13<>"",Z13<>"",Y13=Y14,Z13=Z14),Y13&"|"&Z13,IF(AND(Y13<>"",Z13<>"",Y13=Y15,Z13=Z15),Y13&"|"&Z13,IF(AND(Y14<>"",Z14<>"",Y14=Y15,Z14=Z15),Y14&"|"&Z14,"")))))),IF(_xlpm.k="","",_xlfn.LET(_xlpm.keys,Y12:Y15&"|"&Z12:Z15,_xlpm.m,(Y12:Y15<>"")*(Z12:Z15<>"")*(_xlpm.keys=_xlpm.k),_xlpm.quals,_xlfn._xlws.FILTER(C12:C15,_xlpm.m),_xlpm.subs,_xlfn._xlws.FILTER(AJ12:AJ15,_xlpm.m),_xlpm.stats,_xlfn._xlws.FILTER(G12:G15,_xlpm.m),_xlpm.reps,_xlfn._xlws.FILTER(H12:H15,_xlpm.m),_xlpm.labels,_xlfn.XLOOKUP(_xlpm.quals,$K:$K,$Q:$Q,"")&" "&_xlpm.subs,_xlpm.n,ROWS(_xlpm.labels),_xlpm.labelText,IF(_xlpm.n=2,INDEX(_xlpm.labels,1)&" and "&INDEX(_xlpm.labels,2),_xlfn.TEXTJOIN(", ",TRUE,INDEX(_xlpm.labels,_xlfn.SEQUENCE(_xlpm.n-1)))&" and "&INDEX(_xlpm.labels,_xlpm.n)),_xlpm.base,"This programme is funded but "&_xlpm.labelText&" discount so only one of these qualifications would count towards performance tables.",_xlpm.trans,IF(_xlpm.stats="Transitioning",_xlpm.subs&" is funded for first teach 2027 but is expected to be replaced in "&SUBSTITUTE(_xlpm.reps,"FT","first teach")&".",""),_xlpm.transText,IFERROR(_xlfn.TEXTJOIN(" ",TRUE,_xlfn.UNIQUE(_xlfn._xlws.FILTER(_xlpm.trans,_xlpm.trans<>""))),""),_xlpm.sizeText,IF($X$10<899,"This is smaller than the average mixed programme of study.",IF($X$10>1261,"This is larger than the average mixed programme of study.","")),_xlpm.warnings,_xlfn.TEXTJOIN(" ",TRUE,_xlpm.transText,_xlpm.sizeText),_xlpm.base&IF(_xlpm.warnings<>""," Gentle warning: "&_xlpm.warnings,""))))} | AB23: A Level | Design and Technology: Design Engineering | 360 GLH
K24: A Level | Economics | 360 GLH | L24: Economics | M24: 360 | N24: Can be used in a mixed programme of study | O24: Continuing | P24: NA | Q24: A Level | W24: D&T Pair Rule | X24: =AND(COUNTIF(AJ12:AJ15,"Design and Technology: Design Engineering")>0,COUNTIF(AJ12:AJ15,"Design and Technology: Product Design")>0) -> FALSE | AB24: A Level | Design and Technology: Product Design | 360 GLH
B25: Main programme GLH | C25: =SUM(AK12:AK15) -> 0 | K25: A Level | English Language | 360 GLH | L25: English Language | M25: 360 | N25: Can be used in a mixed programme of study | O25: Continuing | P25: NA | Q25: A Level | W25: D&T Pair Message | X25: ="Candidates are not permitted to certificate for Design and Technology: Design Engineering and Design and Technology: Product Design in the same year " -> Candidates are not permitted to certificate for Design and Technology: Design Engineering and Design and Technology: Product Design in the same year | AB25: A Level | Economics | 360 GLH
B26: Enrichment GLH | C26: =SUM(AK20:AK22) -> 0 | K26: A Level | English Language and Literature | 360 GLH | L26: English Language and Literature | M26: 360 | N26: Can be used in a mixed programme of study | O26: Continuing | P26: NA | Q26: A Level | AB26: A Level | English Language | 360 GLH
K27: A Level | English Literature | 360 GLH | L27: English Literature | M27: 360 | N27: Can be used in a mixed programme of study | O27: Continuing | P27: NA | Q27: A Level | AB27: A Level | English Language and Literature | 360 GLH
B28: Outcome | K28: A Level | Film Studies | 360 GLH | L28: Film Studies | M28: 360 | N28: Can be used in a mixed programme of study | O28: Continuing | P28: NA | Q28: A Level | AB28: A Level | English Literature | 360 GLH
B29: {=_xlfn.LET(_xlpm.p,"click to select from the drop down box",_xlpm.r,"Reset choices",_xlpm.c,"Clear selection",_xlpm.mainCount,SUMPRODUCT(--(C12:C15<>""),--(C12:C15<>_xlpm.p),--(C12:C15<>_xlpm.r),--(C12:C15<>_xlpm.c)),_xlpm.enrichCount,SUMPRODUCT(--(C20:C22<>""),--(C20:C22<>_xlpm.p),--(C20:C22<>_xlpm.r),--(C20:C22<>_xlpm.c)),_xlpm.mainGLH,C25,_xlpm.hasFull,COUNTIF(F12:F15,"Forms a full programme")>0,_xlpm.mask,(C12:C15<>"")*(C12:C15<>_xlpm.p)*(C12:C15<>_xlpm.r)*(C12:C15<>_xlpm.c),_xlpm.selectedPairs,IFERROR(_xlfn._xlws.FILTER(AJ12:AJ15&"|"&_xlfn.XLOOKUP(C12:C15,$K:$K,$Q:$Q,""),_xlpm.mask),""),_xlpm.duplicateSubject,IF(SUM(--(_xlpm.selectedPairs<>""))<=1,FALSE,COUNTA(_xlfn.UNIQUE(_xlfn._xlws.FILTER(_xlpm.selectedPairs,_xlpm.selectedPairs<>"")))<SUM(--(_xlpm.selectedPairs<>""))),_xlpm.duplicateDiscount,X22,_xlpm.dtPair,X24,_xlpm.warningText,X13,_xlpm.noSelections,AND(_xlpm.mainCount=0,_xlpm.enrichCount=0),_xlpm.enrichmentOnly,AND(_xlpm.mainCount=0,_xlpm.enrichCount>0),_xlpm.base,IF(_xlpm.mainCount=1,"","The combination you have selected is funded for 2027."),_xlpm.sizeWarning,IF(AND(_xlpm.mainCount>0,_xlpm.mainGLH<899)," Gentle warning: This is smaller than the average mixed programme of study.",IF(_xlpm.mainGLH>1261," Gentle warning: This is larger than the average mixed programme of study.","")),_xlpm.otherWarning,IF(_xlpm.warningText<>"",IF(_xlpm.sizeWarning<>""," "," Gentle warning: ")&_xlpm.warningText,""),_xlpm.fullProgrammeOnlyWarning,AND(_xlpm.hasFull,_xlpm.mainCount>1,_xlpm.mainGLH<=1261),IF(_xlpm.noSelections,"No qualifications have been selected",IF(_xlpm.enrichmentOnly,"You have only selected enrichment qualifications, please add up to 4 main qualifications to build a full programme of study",IF(_xlpm.duplicateSubject,X15,IF(_xlpm.dtPair,X25,IF(_xlpm.duplicateDiscount,X23,IF(_xlpm.fullProgrammeOnlyWarning,X16,IF(AND(_xlpm.mainCount=2,COUNTIFS(AJ12:AJ15,"Information Technology",AK12:AK15,720)=1,COUNTIFS(AJ12:AJ15,"Digital systems and data",AK12:AK15,360)=1),_xlfn._LONGTEXT("The combination you have selected is funded for 2027. Gentle warning: Information Technology 720 GLH is funded for first teach 2027 but is expected to be defunded for first teach 2028. We are awaiting confirmation from the DfE but these qualifications may"," discount."),IF(AND(_xlpm.mainCount=1,COUNTIFS(AJ12:AJ15,"Information Technology",AK12:AK15,720)>0),"Gentle warning: This is smaller than the average mixed programme of study. Information Technology 720 GLH is funded for first teach 2027 but is expected to be defunded for first teach 2028.",TRIM(_xlpm.base&_xlpm.sizeWarning&_xlpm.otherWarning))))))))))} -> No qualifications have been selected | K29: A Level | Geography | 360 GLH | L29: Geography | M29: 360 | N29: Can be used in a mixed programme of study | O29: Continuing | P29: NA | Q29: A Level | AB29: A Level | Film Studies | 360 GLH
K30: A Level | History | 360 GLH | L30: History | M30: 360 | N30: Can be used in a mixed programme of study | O30: Continuing | P30: NA | Q30: A Level | AB30: A Level | Geography | 360 GLH
K31: A Level | Latin | 360 GLH | L31: Latin | M31: 360 | N31: Can be used in a mixed programme of study | O31: Continuing | P31: NA | Q31: A Level | AB31: A Level | History | 360 GLH
K32: A Level | Law | 360 GLH | L32: Law | M32: 360 | N32: Can be used in a mixed programme of study | O32: Continuing | P32: NA | Q32: A Level | AB32: A Level | Latin | 360 GLH
K33: A Level | Mathematics A | 360 GLH | L33: Mathematics A | M33: 360 | N33: Can be used in a mixed programme of study | O33: Continuing | P33: NA | Q33: A Level | AB33: A Level | Law | 360 GLH
B34: Need support with your curriculum planning? | K34: A Level | Mathematics A, Further | 360 GLH | L34: Mathematics A, Further | M34: 360 | N34: Can be used in a mixed programme of study | O34: Continuing | P34: NA | Q34: A Level | AB34: A Level | Mathematics A | 360 GLH
B35: This Post-16 programme builder is provided to support exploration and early thinking. Its purpose is not to provide a single “right answer”, but to help you explore what could work in your context, based on your learners and your current offer. The tool allows you to test different programme models and consider how qualifications may be combined. While it reflects our current understanding of post‑16 reform, some content may change as further DfE guidance is confirmed, and outputs should be used as an indicative guide only. If you would like to discuss your curriculum plans or sense‑check your approach, our partnerships team would be very happy to support you. Contact partnerships@cambridge.org | K35: A Level | Mathematics B | 360 GLH | L35: Mathematics B | M35: 360 | N35: Can be used in a mixed programme of study | O35: Continuing | P35: NA | Q35: A Level | AB35: A Level | Mathematics A, Further | 360 GLH
K36: A Level | Mathematics B, Further | 360 GLH | L36: Mathematics B, Further | M36: 360 | N36: Can be used in a mixed programme of study | O36: Continuing | P36: NA | Q36: A Level | AB36: A Level | Mathematics B | 360 GLH
K37: A Level | Media Studies | 360 GLH | L37: Media Studies | M37: 360 | N37: Can be used in a mixed programme of study | O37: Continuing | P37: NA | Q37: A Level | AB37: A Level | Mathematics B, Further | 360 GLH
K38: A Level | Physical Education | 360 GLH | L38: Physical Education | M38: 360 | N38: Can be used in a mixed programme of study | O38: Continuing | P38: NA | Q38: A Level | AB38: A Level | Media Studies | 360 GLH
K39: A Level | Physics A | 360 GLH | L39: Physics A | M39: 360 | N39: Can be used in a mixed programme of study | O39: Continuing | P39: NA | Q39: A Level | AB39: A Level | Physical Education | 360 GLH
K40: A Level | Psychology | 360 GLH | L40: Psychology | M40: 360 | N40: Can be used in a mixed programme of study | O40: Continuing | P40: NA | Q40: A Level | AB40: A Level | Physics A | 360 GLH
K41: A Level | Religious Studies | 360 GLH | L41: Religious Studies | M41: 360 | N41: Can be used in a mixed programme of study | O41: Continuing | P41: NA | Q41: A Level | AB41: A Level | Psychology | 360 GLH
K42: A Level | Sociology | 360 GLH | L42: Sociology | M42: 360 | N42: Can be used in a mixed programme of study | O42: Continuing | P42: NA | Q42: A Level | AB42: A Level | Religious Studies | 360 GLH
K43: AS Level | Ancient History | 180 GLH | L43: Ancient History | M43: 180 | N43: Can be used in a mixed programme of study | O43: Continuing | P43: NA | Q43: AS Level | AB43: A Level | Sociology | 360 GLH
K44: AS Level | Art, Craft and Design | 180 GLH | L44: Art, Craft and Design | M44: 180 | N44: Can be used in a mixed programme of study | O44: Continuing | P44: NA | Q44: AS Level | AB44: AS Level | Ancient History | 180 GLH
K45: AS Level | Art and Design: Fine Art | 180 GLH | L45: Art and Design: Fine Art | M45: 180 | N45: Can be used in a mixed programme of study | O45: Continuing | P45: NA | Q45: AS Level | AB45: AS Level | Art, Craft and Design | 180 GLH
K46: AS Level | Art and Design: Graphic Communication | 180 GLH | L46: Art and Design: Graphic Communication | M46: 180 | N46: Can be used in a mixed programme of study | O46: Continuing | P46: NA | Q46: AS Level | AB46: AS Level | Art and Design: Fine Art | 180 GLH
K47: AS Level | Art and Design: Photography | 180 GLH | L47: Art and Design: Photography | M47: 180 | N47: Can be used in a mixed programme of study | O47: Continuing | P47: NA | Q47: AS Level | AB47: AS Level | Art and Design: Graphic Communication | 180 GLH
... K100: Level 3 Cambridge Technical | Sport and Physical Activity | 180 GLH | L100: Sport and Physical Activity | M100: 180 | N100: Can be used in a mixed programme of study | O100: Transitioning | P100: Tranche 2 FT 2028 | Q100: Level 3 Cambridge Technical | AB100: Level 3 Cambridge Technical | Sport and Physical Activity | 360 GLH
AB101: Level 3 Cambridge Technical | Sport and Physical Activity | 180 GLH

Sheet Qualification Library
A1: Qualification Family | B1: Subject | C1: GLH size | D1: Programme role | E1: Learner profile | F1: Status for FT2027 | G1: Funded for FT2027 | H1: Anticipated to be replaced | I1: Discount family | J1: Description | K1: Discount code | L1: NR Checked | M1: Exception
A2: V Level | B2: Digital systems and data | C2: 360 | D2: Can be used in a mixed programme of study | E2: Applied vocational | F2: New from 2027 | G2: Yes | H2: NA | I2: VRQ | J2: Vocationally related | K2: TBC1 | L2: Yes
A3: V Level | B3: Education | C3: 360 | D3: Can be used in a mixed programme of study | E3: Applied vocational | F3: New from 2027 | G3: Yes | H3: NA | I3: VRQ | J3: Vocationally related | K3: TBC2 | L3: Yes
A4: V Level | B4: Accounting and Finance | C4: 360 | D4: Can be used in a mixed programme of study | E4: Applied vocational | F4: New from 2027 | G4: Yes | H4: NA | I4: VRQ | J4: Vocationally related | K4: TBC3 | L4: Yes
A5: A Level | B5: Ancient History | C5: 360 | D5: Can be used in a mixed programme of study | E5: Academic | F5: Continuing | G5: Yes | H5: NA | I5: GEN | J5: General | K5: 6510 | L5: Yes
A6: A Level | B6: Art, Craft and Design | C6: 360 | D6: Can be used in a mixed programme of study | E6: Academic | F6: Continuing | G6: Yes | H6: NA | I6: GEN | J6: General | K6: 3510 | L6: Yes
A7: A Level | B7: Art and Design: Fine Art | C7: 360 | D7: Can be used in a mixed programme of study | E7: Academic | F7: Continuing | G7: Yes | H7: NA | I7: GEN | J7: General | K7: 3690 | L7: Yes
A8: A Level | B8: Art and Design: Graphic Communication | C8: 360 | D8: Can be used in a mixed programme of study | E8: Academic | F8: Continuing | G8: Yes | H8: NA | I8: GEN | J8: General | K8: 3550 | L8: Yes
A9: A Level | B9: Art and Design: Photography | C9: 360 | D9: Can be used in a mixed programme of study | E9: Academic | F9: Continuing | G9: Yes | H9: NA | I9: GEN | J9: General | K9: 3570 | L9: Yes
A10: A Level | B10: Art and Design: Textiles Design | C10: 360 | D10: Can be used in a mixed programme of study | E10: Academic | F10: Continuing | G10: Yes | H10: NA | I10: GEN | J10: General | K10: 3650 | L10: Yes
A11: A Level | B11: Art and Design: Three Dimensional Design | C11: 360 | D11: Can be used in a mixed programme of study | E11: Academic | F11: Continuing | G11: Yes | H11: NA | I11: GEN | J11: General | K11: 3670 | L11: Yes
A12: A Level | B12: Biology A | C12: 360 | D12: Can be used in a mixed programme of study | E12: Academic | F12: Continuing | G12: Yes | H12: NA | I12: GEN | J12: General | K12: 1010 | L12: Yes
A13: A Level | B13: Business | C13: 360 | D13: Can be used in a mixed programme of study | E13: Academic | F13: Continuing | G13: Yes | H13: NA | I13: GEN | J13: General | K13: 3210 | L13: Yes
A14: A Level | B14: Chemistry A | C14: 360 | D14: Can be used in a mixed programme of study | E14: Academic | F14: Continuing | G14: Yes | H14: NA | I14: GEN | J14: General | K14: 1110 | L14: Yes
A15: A Level | B15: Chemistry B | C15: 360 | D15: Can be used in a mixed programme of study | E15: Academic | F15: Continuing | G15: Yes | H15: NA | I15: GEN | J15: General | K15: 1110 | L15: Yes
A16: A Level | B16: Classical Civilisation | C16: 360 | D16: Can be used in a mixed programme of study | E16: Academic | F16: Continuing | G16: Yes | H16: NA | I16: GEN | J16: General | K16: 6530 | L16: Yes
... A18: A Level | B18: Computer Science | C18: 360 | D18: Can be used in a mixed programme of study | E18: Academic | F18: Continuing | G18: Yes | H18: NA | I18: GEN | J18: General | K18: 2610 | L18: Yes
A19: A Level | B19: Design and Technology: Design Engineering | C19: 360 | D19: Can be used in a mixed programme of study | E19: Academic | F19: Continuing | G19: Yes | H19: NA | I19: GEN | J19: General | K19: 9070 | L19: Yes | M19: Candidates are not permitted to certificate for Design and Technology: Design Engineering and Design and Technology: Product Design in the same year
A20: A Level | B20: Design and Technology: Product Design | C20: 360 | D20: Can be used in a mixed programme of study | E20: Academic | F20: Continuing | G20: Yes | H20: NA | I20: GEN | J20: General | K20: 9080 | L20: Yes | M20: Candidates are not permitted to certificate for Design and Technology: Design Engineering and Design and Technology: Product Design in the same year
A21: A Level | B21: Economics | C21: 360 | D21: Can be used in a mixed programme of study | E21: Academic | F21: Continuing | G21: Yes | H21: NA | I21: GEN | J21: General | K21: 4410 | L21: Yes
A22: A Level | B22: English Language | C22: 360 | D22: Can be used in a mixed programme of study | E22: Academic | F22: Continuing | G22: Yes | H22: NA | I22: GEN | J22: General | K22: 5030 | L22: Yes
A23: A Level | B23: English Language and Literature | C23: 360 | D23: Can be used in a mixed programme of study | E23: Academic | F23: Continuing | G23: Yes | H23: NA | I23: GEN | J23: General | K23: 5010 | L23: Yes
A24: A Level | B24: English Literature | C24: 360 | D24: Can be used in a mixed programme of study | E24: Academic | F24: Continuing | G24: Yes | H24: NA | I24: GEN | J24: General | K24: 5110 | L24: Yes
A25: A Level | B25: Film Studies | C25: 360 | D25: Can be used in a mixed programme of study | E25: Academic | F25: Continuing | G25: Yes | H25: NA | I25: GEN | J25: General | K25: 5360 | L25: Yes
A26: A Level | B26: Geography | C26: 360 | D26: Can be used in a mixed programme of study | E26: Academic | F26: Continuing | G26: Yes | H26: NA | I26: GEN | J26: General | K26: 3910 | L26: Yes
A27: A Level | B27: History | C27: 360 | D27: Can be used in a mixed programme of study | E27: Academic | F27: Continuing | G27: Yes | H27: NA | I27: GEN | J27: General | K27: 4010 | L27: Yes
A28: A Level | B28: Latin | C28: 360 | D28: Can be used in a mixed programme of study | E28: Academic | F28: Continuing | G28: Yes | H28: NA | I28: GEN | J28: General | K28: 6610 | L28: Yes
A29: A Level | B29: Law | C29: 360 | D29: Can be used in a mixed programme of study | E29: Academic | F29: Continuing | G29: Yes | H29: NA | I29: GEN | J29: General | K29: 4770 | L29: Yes
A30: A Level | B30: Mathematics A | C30: 360 | D30: Can be used in a mixed programme of study | E30: Academic | F30: Continuing | G30: Yes | H30: NA | I30: GEN | J30: General | K30: 2210 | L30: Yes
A31: A Level | B31: Mathematics A, Further | C31: 360 | D31: Can be used in a mixed programme of study | E31: Academic | F31: Continuing | G31: Yes | H31: NA | I31: GEN | J31: General | K31: 2330 | L31: Yes
A32: A Level | B32: Mathematics B | C32: 360 | D32: Can be used in a mixed programme of study | E32: Academic | F32: Continuing | G32: Yes | H32: NA | I32: GEN | J32: General | K32: 2210 | L32: Yes
... A59: AS Level | B59: Sociology | C59: 180 | D59: Can be used in a mixed programme of study | E59: Academic | F59: Continuing | G59: Yes | H59: NA | I59: GEN | J59: General | K59: 4890 | L59: Yes
A60: Cambridge Advanced National (AAQ) | B60: Applied Science | C60: 360 | D60: Can be used in a mixed programme of study | E60: Applied vocational | F60: Transitioning | G60: Yes | H60: Tranche 2 FT 2028 | I60: VRQ | J60: Vocationally related | K60: RA14 | L60: Yes
A61: Cambridge Advanced National (AAQ) | B61: Applied Science | C61: 180 | D61: Can be used in a mixed programme of study | E61: Applied vocational | F61: Transitioning | G61: Yes | H61: Tranche 2 FT 2028 | I61: VRQ | J61: Vocationally related | K61: RA14 | L61: Yes
A62: Cambridge Advanced National (AAQ) | B62: Engineering | C62: 360 | D62: Can be used in a mixed programme of study | E62: Applied vocational | F62: Transitioning | G62: Yes | H62: Tranche 2 FT 2028 | I62: VRQ | J62: Vocationally related | K62: XA1 | L62: Yes
A63: Cambridge Advanced National (AAQ) | B63: Engineering | C63: 180 | D63: Can be used in a mixed programme of study | E63: Applied vocational | F63: Transitioning | G63: Yes | H63: Tranche 2 FT 2028 | I63: VRQ | J63: Vocationally related | K63: XA1 | L63: Yes
A64: Cambridge Advanced National (AAQ) | B64: Health and Social Care | C64: 360 | D64: Can be used in a mixed programme of study | E64: Applied vocational | F64: Transitioning | G64: Yes | H64: Tranche 2 FT 2028 | I64: VRQ | J64: Vocationally related | K64: PA1 | L64: Yes
A65: Cambridge Advanced National (AAQ) | B65: Health and Social Care | C65: 180 | D65: Can be used in a mixed programme of study | E65: Applied vocational | F65: Transitioning | G65: Yes | H65: Tranche 2 FT 2028 | I65: VRQ | J65: Vocationally related | K65: PA1 | L65: Yes
A66: Cambridge Advanced National (AAQ) | B66: Human Biology | C66: 180 | D66: Can be used in a mixed programme of study | E66: Applied vocational | F66: Transitioning | G66: Yes | H66: Tranche 2 FT 2028 | I66: VRQ | J66: Vocationally related | K66: 1030 | L66: Yes
A67: Cambridge Advanced National (AAQ) | B67: Human Biology | C67: 360 | D67: Can be used in a mixed programme of study | E67: Applied vocational | F67: Transitioning | G67: Yes | H67: Tranche 2 FT 2028 | I67: VRQ | J67: Vocationally related | K67: 1030 | L67: Yes
A68: Cambridge Advanced National (AAQ) | B68: Mental Health: Individuals and Society | C68: 180 | D68: Can be used in a mixed programme of study | E68: Applied vocational | F68: Transitioning | G68: Yes | H68: Tranche 2 FT 2028 | I68: VRQ | J68: Vocationally related | K68: PA1 | L68: Yes
A69: Cambridge Advanced National (AAQ) | B69: Mental Health: Individuals and Society | C69: 360 | D69: Can be used in a mixed programme of study | E69: Applied vocational | F69: Transitioning | G69: Yes | H69: Tranche 2 FT 2028 | I69: VRQ | J69: Vocationally related | K69: PA1 | L69: Yes
A70: Level 3 Cambridge Technical | B70: Applied Science | C70: 720 | D70: Can be used in a mixed programme of study | E70: Applied vocational | F70: Transitioning | G70: Yes | H70: Tranche 2 FT 2028 | I70: VRQ | J70: Vocationally related | K70: RA14 | L70: Yes
A71: Level 3 Cambridge Technical | B71: Art and Design | C71: 1080 | D71: Forms a full programme | E71: Applied vocational | F71: Transitioning | G71: Yes | H71: Tranche 4 FT 2030 | I71: VRQ | J71: Vocationally related | K71: NA | L71: Yes | M71: This qualification attracts funding for both 16-19 and post‑19 learners but is not counted in 16-18 performance tables.
A72: Level 3 Cambridge Technical | B72: Art and Design | C72: 720 | D72: Can be used in a mixed programme of study | E72: Applied vocational | F72: Transitioning | G72: Yes | H72: Tranche 4 FT 2030 | I72: VRQ | J72: Vocationally related | K72: NA | L72: Yes | M72: This qualification attracts funding for both 16-19 and post‑19 learners but is not counted in 16-18 performance tables.
A73: Level 3 Cambridge Technical | B73: Art and Design | C73: 540 | D73: Can be used in a mixed programme of study | E73: Applied vocational | F73: Transitioning | G73: Yes | H73: Tranche 4 FT 2030 | I73: VRQ | J73: Vocationally related | K73: NA | L73: Yes | M73: This qualification attracts funding for both 16-19 and post‑19 learners but is not counted in 16-18 performance tables.
A74: Level 3 Cambridge Technical | B74: Art and Design | C74: 360 | D74: Can be used in a mixed programme of study | E74: Applied vocational | F74: Transitioning | G74: Yes | H74: Tranche 4 FT 2030 | I74: VRQ | J74: Vocationally related | K74: NA | L74: Yes | M74: This qualification attracts funding for both 16-19 and post‑19 learners but is not counted in 16-18 performance tables.
A75: Level 3 Cambridge Technical | B75: Art and Design | C75: 180 | D75: Can be used in a mixed programme of study | E75: Applied vocational | F75: Transitioning | G75: Yes | H75: Tranche 4 FT 2030 | I75: VRQ | J75: Vocationally related | K75: NA | L75: Yes | M75: This qualification attracts funding for both 16-19 and post‑19 learners but is not counted in 16-18 performance tables.
A76: Level 3 Cambridge Technical | B76: Business | C76: 720 | D76: Can be used in a mixed programme of study | E76: Applied vocational | F76: Transitioning | G76: Yes | H76: Tranche 2 FT 2028 | I76: VRQ | J76: Vocationally related | K76: AA3 | L76: Yes
A77: Level 3 Cambridge Technical | B77: Business | C77: 540 | D77: Can be used in a mixed programme of study | E77: Applied vocational | F77: Transitioning | G77: Yes | H77: Tranche 2 FT 2028 | I77: VRQ | J77: Vocationally related | K77: AA3 | L77: Yes
A78: Level 3 Cambridge Technical | B78: Business | C78: 360 | D78: Can be used in a mixed programme of study | E78: Applied vocational | F78: Transitioning | G78: Yes | H78: Tranche 2 FT 2028 | I78: VRQ | J78: Vocationally related | K78: AA3 | L78: Yes
A79: Level 3 Cambridge Technical | B79: Business | C79: 180 | D79: Can be used in a mixed programme of study | E79: Applied vocational | F79: Transitioning | G79: Yes | H79: Tranche 2 FT 2028 | I79: VRQ | J79: Vocationally related | K79: AA3 | L79: Yes
A80: Level 3 Cambridge Technical | B80: Digital Media | C80: 720 | D80: Can be used in a mixed programme of study | E80: Applied vocational | F80: Transitioning | G80: Yes | H80: Tranche 4 FT 2030 | I80: VRQ | J80: Vocationally related | K80: KA4 | L80: Yes
A81: Level 3 Cambridge Technical | B81: Digital Media | C81: 540 | D81: Can be used in a mixed programme of study | E81: Applied vocational | F81: Transitioning | G81: Yes | H81: Tranche 4 FT 2030 | I81: VRQ | J81: Vocationally related | K81: KA4 | L81: Yes
A82: Level 3 Cambridge Technical | B82: Digital Media | C82: 360 | D82: Can be used in a mixed programme of study | E82: Applied vocational | F82: Transitioning | G82: Yes | H82: Tranche 4 FT 2030 | I82: VRQ | J82: Vocationally related | K82: KA4 | L82: Yes
A83: Level 3 Cambridge Technical | B83: Digital Media | C83: 180 | D83: Can be used in a mixed programme of study | E83: Applied vocational | F83: Transitioning | G83: Yes | H83: Tranche 4 FT 2030 | I83: VRQ | J83: Vocationally related | K83: KA4 | L83: Yes
A84: Level 3 Cambridge Technical | B84: Engineering | C84: 720 | D84: Can be used in a mixed programme of study | E84: Applied vocational | F84: Transitioning | G84: Yes | H84: Tranche 2 FT 2028 | I84: VRQ | J84: Vocationally related | K84: XA1 | L84: Yes
A85: Level 3 Cambridge Technical | B85: Health and Social Care | C85: 1080 | D85: Forms a full programme | E85: Applied vocational | F85: Transitioning | G85: Yes | H85: Tranche 2 FT 2028 | I85: VRQ | J85: Vocationally related | K85: PA1 | L85: Yes
A86: Level 3 Cambridge Technical | B86: Health and Social Care | C86: 720 | D86: Can be used in a mixed programme of study | E86: Applied vocational | F86: Transitioning | G86: Yes | H86: Tranche 2 FT 2028 | I86: VRQ | J86: Vocationally related | K86: PA1 | L86: Yes
A87: Level 3 Cambridge Technical | B87: Information Technology | C87: 720 | D87: Can be used in a mixed programme of study | E87: Applied vocational | F87: Transitioning | G87: Yes | H87: Tranche 2 FT 2028 | I87: VRQ | J87: Vocationally related | K87: CN1 | L87: Yes
... A97: Level 3 Cambridge Technical | B97: Sport and Physical Activity | C97: 180 | D97: Can be used in a mixed programme of study | E97: Applied vocational | F97: Transitioning | G97: Yes | H97: Tranche 2 FT 2028 | I97: VRQ | J97: Vocationally related | K97: MA1 | L97: Yes
A98: Level 3 Enrichment Certificate | B98: Sustainability | C98: 150 | D98: Can be added to programme | E98: Enrichment | F98: Continuing | G98: Yes | H98: NA | I98: OG | J98: Other general | K98: TBC4 | L98: Yes | M98: This qualification attracts funding for both 16-19 and post‑19 learners but is not counted in 16-18 performance tables.
A99: Level 3 Enrichment Award | B99: Oracy | C99: 30 | D99: Can be added to programme | E99: Enrichment | F99: Continuing | G99: Yes | H99: NA | I99: OG | J99: Other general | K99: TBC5 | L99: Yes | M99: Can be delivered in centres as part of a funded 16-19 study programme but is not counted in 16-18 performance tables.
A100: Level 3 Enrichment Award | B100: Personal Finance | C100: 30 | D100: Can be added to programme | E100: Enrichment | F100: Continuing | G100: Yes | H100: NA | I100: OG | J100: Other general | K100: TBC6 | L100: Yes | M100: Can be delivered in centres as part of a funded 16-19 study programme but is not counted in 16-18 performance tables.
